BEGIN:VCALENDAR
VERSION:2.0
PRODID:-//eventon.com NONSGML v1.0//EN
BEGIN:VEVENT
UID:69ec9aae6f846
DTSTAMP:20260425T124254
DTSTART:20260821T140000Z
DTEND:20260821T153000Z
LOCATION:IGA Park Mecklenburger Hallenhaus Kleiner Warnowdamm 18\,  18109 Rostock
SUMMARY:Verwöhnaromen im August
DESCRIPTION: Kräuter erfreuen uns mit ihren vielfältigen Aromen. Gerade zur Mittagszeit verströmen Minze\,  Lavendel\,  Thymian\,  Zitronenmelisse\,  Rosmarin\,  Basilikum und Co ihren unverwechselbaren Duft. Die Aromen wirken anregend\,  belebend\,  harmonisierend oder beruhigend. Nicht nur bei Speisen und Getränken können sie eingesetzt werden. Verschiedene Teemischungen oder Kräuterpotpourri können mit getrockneten Kräutern zubereitet werden.[..]
URL:https://iga-park-rostock.de/veranstaltungen/verwoehnaromen-im-august/
END:VEVENT
END:VCALENDAR