BEGIN:VCALENDAR
VERSION:2.0
PRODID:-//eventon.com NONSGML v1.0//EN
BEGIN:VEVENT
UID:69eb94cbf04ab
DTSTAMP:20260424T180531
DTSTART:20260718T153000Z
DTEND:20260718T200000Z
LOCATION:Parkbühne IGA Park Rostock\,  Schmarl-Dorf 40\,  18106 Rostock
SUMMARY:Feine Sahne Fischfilet
DESCRIPTION: 20 Jahre Feine Sahne Fischfilet – So lange wir leben\,  so viel wie geht Was für eine Reise mit so vielen Stürmen\,  mit so vielen wunderschönen Momenten vom Schulhof in der vorpommerschen Provinz bis auf Platz 1 der deutschen Albumcharts: Feine Sahne Fischfilet feiern nächstes Jahr 20. Geburtstag\,  natürlich zuhause[..]
URL:https://iga-park-rostock.de/veranstaltungen/20-jahre-feine-sahne-fischfilet/
END:VEVENT
END:VCALENDAR