BEGIN:VCALENDAR
VERSION:2.0
PRODID:-//eventon.com NONSGML v1.0//EN
BEGIN:VEVENT
UID:69e7a31c2567f
DTSTAMP:20260421T181732
DTSTART:20260814T170000Z
DTEND:20260814T215000Z
LOCATION:Parkbühne IGA Park Rostock\,  Schmarl-Dorf 40\,  18106 Rostock
SUMMARY:MARTERIA
DESCRIPTION: MARTERIA ZUM GLÜCK IN DIE ZUKUNFT TOUR 2026 Auf einem Überraschungskonzert am Strand seiner Heimatstadt Rostock hat Marteria ein musikalisches Ausrufezeichen gesetzt: Für 2026 kündigte er nicht nur eine große Arenatour an\,  sondern auch den dritten Teil seiner legendären „Zum Glück in die Zukunft"-Album-Reihe. In einem Moment voller Energie präsentierte[..]
URL:https://iga-park-rostock.de/veranstaltungen/marteria/
END:VEVENT
END:VCALENDAR