BEGIN:VCALENDAR
VERSION:2.0
PRODID:-//eventon.com NONSGML v1.0//EN
BEGIN:VEVENT
UID:69eb2b00758bb
DTSTAMP:20260424T103408
DTSTART:20250607T080000Z
DTEND:20250609T170000Z
LOCATION:Festwiese Museumspark Rostock GmbH\,  Schmarl-Dorf 40\,  18106 Rostock
SUMMARY:Mittelalterspektakel
DESCRIPTION: Großes Mittelalter-Spektakel mit Pfingstfeuer\,  Heerlager & Ritterkämpfen Sturm auf Rostock: Vom 7. bis 9. Juni 2025 fallen abermals wilde Ritter über den IGA-Park herein und liefern sich dort spektakuläre Kämpfe. Zudem Mittelaltermarkt mit rund 85 Ständen\,  14 Lagern\,  Tavernen\,  2 Bühnen\,  Spielleute\,  Gaukler\,  Kinder-Mitmachaktionen\,  Markt & Handwerk. Eine Zeitreise für[..]
URL:https://iga-park-rostock.de/veranstaltungen/mittelalterspektakel-2025/
END:VEVENT
END:VCALENDAR