BEGIN:VCALENDAR
VERSION:2.0
PRODID:-//eventon.com NONSGML v1.0//EN
BEGIN:VEVENT
UID:69ed95b310ca1
DTSTAMP:20260426T063355
DTSTART:20260503T100000Z
DTEND:20260503T160000Z
LOCATION:Japanischer Garten Schmarl Dorf 40\,  18106 Rostock
SUMMARY:Hanami Kirschblütenfest
DESCRIPTION: 🌸 Hanami – Kirschblütenfest im IGA Park Rostock 🌸 Die Deutsch-Japanische Gesellschaft Rostock läd herzlich ein zu einem japanischen Nachmittag im IGA Park. Zwischen 12 und 18 Uhr erwartet Euch am Japanischen Pavillon ein buntes Programm zum Anschauen und Mitmachen\,  darunter: Faszinierende Workshops und Shows zur japanischen Kampfkunst Cosplay &[..]
URL:https://iga-park-rostock.de/veranstaltungen/hanami-kirschbluetenfest/
END:VEVENT
END:VCALENDAR