BEGIN:VCALENDAR
VERSION:2.0
PRODID:-//eventon.com NONSGML v1.0//EN
BEGIN:VEVENT
UID:69e8f6b607931
DTSTAMP:20260422T182630
DTSTART:20250801T150000Z
DTEND:20250801T215000Z
LOCATION:Parkbühne IGA Park Rostock\,  Schmarl-Dorf 40\,  18106 Rostock
SUMMARY:Das MEGA Mallorca Live Open Air
DESCRIPTION: Das MEGA Mallorca Live Open Air Das MEGA Mallorca Live Open Air kommt in den IGA Park nach Rostock! Freut euch auf ein einmaliges Open Air Erlebnis\,  lasst uns zusammen feiern\,  zu den besten Malle Hits! Live mit dabei sind: Julian Sommer\,  Peter Wackel\,  Lorenz Büffel\,  Dj Düse\,  MützeKatze. Seid[..]
URL:https://iga-park-rostock.de/veranstaltungen/mega-mallorca-live-open-air/
END:VEVENT
END:VCALENDAR