BEGIN:VCALENDAR
VERSION:2.0
PRODID:-//eventon.com NONSGML v1.0//EN
BEGIN:VEVENT
UID:69e9d0f949554
DTSTAMP:20260423T095745
DTSTART:20210925T180000Z
DTEND:20210925T215000Z
LOCATION:Parkbühne IGA Park Rostock\,  Schmarl-Dorf 40\,  18106 Rostock
SUMMARY:Jeanette Biedermann
DESCRIPTION: Jeanette Biedermann Sie ist wieder da: Jeanette Biedermann spielt Open Air im Rahmen ihrer DNA-Tour 2021 eine Show am 25.09.2021 in Rostock. Mit über einer Million verkaufter Tonträger\,  ausverkauften Tourneen und etlichen Auszeichnungen ist Jeanette Biedermann eine der erfolgreichsten Musikerinnen des Landes. Nach dem es ein wenig ruhiger um das[..]
URL:https://iga-park-rostock.de/veranstaltungen/jeanette-biedermann/
END:VEVENT
END:VCALENDAR