BEGIN:VCALENDAR
VERSION:2.0
PRODID:-//eventon.com NONSGML v1.0//EN
BEGIN:VEVENT
UID:69e9d06935dcf
DTSTAMP:20260423T095521
DTSTART:20210817T170000Z
DTEND:20210817T215000Z
LOCATION:Parkbühne IGA Park Rostock\,  Schmarl-Dorf 40\,  18106 Rostock
SUMMARY:KATIE MELUA
DESCRIPTION: +++ verlegt auf den 10.08.2022 - bei Fragen: info@concertbuero-zahlmann.de  +++ Traumhaft schöne Konzertabende inklusive „Nine Million Bicycles“\,  „The Closest Thing To Crazy“\,  „If You Were A Sailboat“ und noch mehr Liebeslieder-Romantik.  Katie Melua präsentiert Songs ihres neuen Albums plus die Hits bei Open-Air-Shows im Sommer 2021 - „A summer in Germany“.[..]
URL:https://iga-park-rostock.de/veranstaltungen/katie-melua/
END:VEVENT
END:VCALENDAR